BEGIN:VCALENDAR
VERSION:2.0
PRODID:-//Weld County Republicans - ECPv6.15.20//NONSGML v1.0//EN
CALSCALE:GREGORIAN
METHOD:PUBLISH
X-ORIGINAL-URL:https://weldcountygop.com
X-WR-CALDESC:Events for Weld County Republicans
REFRESH-INTERVAL;VALUE=DURATION:PT1H
X-Robots-Tag:noindex
X-PUBLISHED-TTL:PT1H
BEGIN:VTIMEZONE
TZID:UTC
BEGIN:STANDARD
TZOFFSETFROM:+0000
TZOFFSETTO:+0000
TZNAME:UTC
DTSTART:20250101T000000
END:STANDARD
END:VTIMEZONE
BEGIN:VEVENT
DTSTART;TZID=UTC:20260307T090000
DTEND;TZID=UTC:20260307T110000
DTSTAMP:20260423T181953
CREATED:20260228T173140Z
LAST-MODIFIED:20260228T174943Z
UID:34377-1772874000-1772881200@weldcountygop.com
SUMMARY:Weld County Caucus
DESCRIPTION:Your caucus location and sign-up information will be posted at:https://caucus.cologop.org/ \n\n\n\nAt your Precinct Caucus\, Republicans will: \n\n\n\n\nElect delegates to County Assembly\n\n\n\nElect delegates to District Assembly\n\n\n\nElect Precinct Committee Persons (PCPs) for Weld GOP from your precinct (up to two PCPs per precinct)\n\n\n\nApply to be an Election Judge (applications available at caucus)\n\n\n\n\nPrecinct Caucus Locations (Districts A–O)\n\n\n\nDate/Time: Saturday\, March 7\, 2026 • 9:00 AMLocations: All locations (will be posted here as soon as finalized). \n\n\n\n\nDistrict A\n\nPrecinct 101 – Pawnee Fire Protection District\, Station 1 – 319 Chatoga St\, Grover\, CO. 80729\n\n\n\nPrecinct 102 – New Raymer Community Church – 225 WCR 86\, New Raymer\, CO. 80742\n\n\n\nPrecinct 103 – Briggsdale High School – 515 Leslie St\, Briggsdale\, CO 80611\n\n\n\n\n\nDistrict B — Ault Pierce Station #2 – 601 2nd\, Pierce\, CO 80650\n\n\n\nDistrict C — Eaton High School – 1661 Collins St\, Eaton\, CO 80615\n\n\n\nDistrict D — Windsor Rec – 250 N 11th St\, Windsor\, CO 80550\n\n\n\nDistrict E — Grace Community Church – 2033 W South 1st St\, Johnstown\, CO 80534\n\n\n\nDistrict F — Erie Community Center – 450 Powers St\, Erie\, CO 80516\n\n\n\nDistrict G — Gateway Bible Fellowship 800 Bryan Ct\, Dacono\, CO 80514\n\n\n\nDistrict H — Fort Lupton Middle School – 201 S McKimley Ave\, Ft Lupton\, CO 80621 \n\n\n\nDistrict I — American Legion Keenesburg – 595 Railroad Ave. Keenesburg\, CO 80643\n\n\n\nDistrict J — North Valley Middle School – 300 2nd Ave\, LaSalle\, CO 80645\n\n\n\nDistrict K — Prairie Heights Middle School – 3737 65th Ave\, Evans\, CO 80634\n\n\n\nDistrict L — Sherwood Park Baptist Church – 3333 16th St\, Greeley\, CO 80634\n\n\n\nDistrict M — Chappelow Arts School\, 34th St\, Evans\, CO 80620\n\n\n\nDistrict N — Chappelow Arts School\, 34th St\, Evans\, CO 80620\n\n\n\nDistrict O — Northridge High School – 7001 Grizzly Dr\, Greeley\, CO 80634\n\n\n\n\nTo find out which district your precinct is in\, please refer to this list (click here). \n\n\n\nWhile we maintain a reference list on this website\, the official and most reliable source for your specific location is: \n\n\n\nhttps://caucus.cologop.org/ \n\n\n\nAt your Precinct Caucus\, Republicans will: \n\n\n\n\nElect delegates to County Assembly\n\n\n\nElect delegates to District Assembly\n\n\n\nElect Precinct Committee Persons (PCPs) for Weld GOP from your precinct (up to two PCPs per precinct)\n\n\n\nApply to be an Election Judge (applications available at caucus)\n\n\n\n\nImportant: To vote at caucus\, you must be affiliated with the Republican Party by the statewide affiliation deadline (22 days before caucus). For 2026\, that deadline falls on February 13th. To check your voter affiliation\, please visit GoVoteColorado.gov \n\n\n\nNot able to attend Caucus but still want to be an Election Judge or be considered for Delegate? Please fill out this form!
URL:https://weldcountygop.com/event/weld-county-caucus/
LOCATION:Colorado
CATEGORIES:Weld GOP Events
END:VEVENT
BEGIN:VEVENT
DTSTART;TZID=UTC:20260314T090000
DTEND;TZID=UTC:20260314T110000
DTSTAMP:20260423T181953
CREATED:20260228T173557Z
LAST-MODIFIED:20260228T174943Z
UID:34379-1773478800-1773486000@weldcountygop.com
SUMMARY:Weld County District Assembly
DESCRIPTION:Weld Republicans meet by their GOP District (A–O) for District Assembly. \n\n\n\nAt District Assembly\, delegates will: \n\n\n\n\nElect delegates to higher assemblies\, including (as applicable):\n\nState Assembly\n\n\n\nCongressional District assemblies (CD2\, CD4\, CD8)\n\n\n\nSenate District assemblies (SD1)\n\n\n\nHouse District assemblies (HD19\, HD48\, HD63\, HD64\, HD65)\n\n\n\n\n\n\nDate/Time: Saturday\, March 14\, 2026 • 9:00 AMLocations: \n\n\n\nDistrict A — Briggsdale High School – 515 Leslie St\, Briggsdale\, CO 80611 \n\n\n\nDistrict B — Ault Pierce Fire Department – 16680 CO-14\, Ault\, CO 80610 \n\n\n\nDistrict C — Eaton High School – 1661 Collins St\, Eaton\, CO 80615 \n\n\n\nDistrict D — Windsor Rec – 250 N 11th St\, Windsor\, CO 80550 \n\n\n\nDistrict E — Johnstown Senior Center -101 Charlotte St. Johnstown\, CO 80534 \n\n\n\nDistrict F — Erie Community Center – 450 Powers St\, Erie\, CO 80516 \n\n\n\nDistrict G — Gateway Bible Fellowship 800 Bryan Ct\, Dacono\, CO 80514 \n\n\n\nDistrict H — Fort Lupton Middle School – 201 S McKimley Ave\, Ft Lupton\, CO 80621  \n\n\n\nDistrict I — American Legion Keenesburg – 595 Railroad Ave. Keenesburg\, CO 80643 \n\n\n\nDistrict J — North Valley Middle School – 300 2nd Ave\, LaSalle\, CO 80645 \n\n\n\nDistrict K — Prairie Heights Middle School – 3737 65th Ave\, Evans\, CO 80634 \n\n\n\nDistrict L — Sherwood Park Baptist Church – 3333 16th St\, Greeley\, CO 8063 \n\n\n\nDistrict M — Chappelow Arts School\, 34th St\, Evans\, CO 80620 \n\n\n\nDistrict N — Chappelow Arts School\, 34th St\, Evans\, CO 80620 \n\n\n\nDistrict O — Northridge High School – 7001 Grizzly Dr\, Greeley\, CO 80634
URL:https://weldcountygop.com/event/weld-county-district-assembly/
LOCATION:Colorado
CATEGORIES:Weld GOP Events
END:VEVENT
BEGIN:VEVENT
DTSTART;TZID=UTC:20260317T183000
DTEND;TZID=UTC:20260317T200000
DTSTAMP:20260423T181953
CREATED:20260228T174749Z
LAST-MODIFIED:20260228T174943Z
UID:34390-1773772200-1773777600@weldcountygop.com
SUMMARY:Weld County GOP Executive Committee Meeting
DESCRIPTION:Weld County GOP Executive Committee Meeting takes place at 6:30 PM every third Tuesday of the month at Roche Construction\, 361 71st Ave\, Greeley\, CO 80634. \n\n\n\n \n\n\n\nEnter through the west doors!
URL:https://weldcountygop.com/event/weld-county-gop-executive-committee-meeting/
LOCATION:Roche Construction\, 361 71st Ave\, Greeley\, Colorado\, 80634\, United States
CATEGORIES:Weld GOP Events
END:VEVENT
BEGIN:VEVENT
DTSTART;TZID=UTC:20260321T090000
DTEND;TZID=UTC:20260321T150000
DTSTAMP:20260423T181953
CREATED:20260228T174031Z
LAST-MODIFIED:20260228T174942Z
UID:34383-1774083600-1774105200@weldcountygop.com
SUMMARY:Weld County Assembly
DESCRIPTION:The Weld County Republican County Assembly will take place at: \n\n\n\nNorthridge High School7001 Grizzly DrGreeley\, CO 80634 \n\n\n\nCounty Assembly is where delegates elected at Precinct Caucus to the County Assembly gather to nominate (designate) Republican candidates for certain county offices and other eligible contests. \n\n\n\nOnly delegates and alternates elected through the caucus process are eligible to participate in County Assembly voting. \n\n\n\n2026 Weld County offices up for election (nominated at County Assembly)\n\n\n\n\nWeld County Commissioner At-Large\n\n\n\nWeld County Commissioner District 2\n\n\n\nWeld County Clerk and Recorder\n\n\n\nWeld County Sheriff\n\n\n\nWeld County Assessor\n\n\n\nHouse District 50 (HD50 residents only — held at County Assembly because HD50 is entirely within Weld County)\n\n\n\n\nHow candidates qualify for the June Primary ballot\n\n\n\n\nTo be designated by assembly onto the primary ballot\, a candidate generally must receive at least 30% of the votes cast at the relevant assembly.\n\n\n\nBallot order: Candidates designated by assembly are placed on the primary ballot in the order of the vote received at the assembly (highest vote-getter listed first).\n\n\n\n\nPetition option (instead of caucus/assembly)\n\n\n\nCandidates may also choose to petition onto the ballot rather than seek assembly designation. Colorado’s Secretary of State provides a separate petition process and deadlines. \n\n\n\nA key rule to know if someone tries to do both: \n\n\n\n\nIf a candidate fails to receive at least 10% of the votes cast at the party assembly for that office\, they are not eligible to run by petition for the same party/office.\n\n\n\n\nCandidate Notification Requirement\n\n\n\nCandidates seeking to qualify for the 2026 Republican Primary ballot through the County Assembly must formally notify the Weld County Republican Party of their intent no later than 30 days prior to County Assembly. \n\n\n\nDeadline to notify the county party:Thursday\, February 19\, 2026
URL:https://weldcountygop.com/event/weld-county-assembly/
LOCATION:Northridge High School\, 7001 Grizzly Dr\, Greeley\, Colorado\, 80634
CATEGORIES:Weld GOP Events
END:VEVENT
END:VCALENDAR